BEGIN:VCALENDAR
VERSION:2.0
PRODID:-//Town of Redcliff - ECPv6.15.20//NONSGML v1.0//EN
CALSCALE:GREGORIAN
METHOD:PUBLISH
X-WR-CALNAME:Town of Redcliff
X-ORIGINAL-URL:https://redcliff.ca
X-WR-CALDESC:Events for Town of Redcliff
REFRESH-INTERVAL;VALUE=DURATION:PT1H
X-Robots-Tag:noindex
X-PUBLISHED-TTL:PT1H
BEGIN:VTIMEZONE
TZID:America/Edmonton
BEGIN:DAYLIGHT
TZOFFSETFROM:-0700
TZOFFSETTO:-0600
TZNAME:MDT
DTSTART:20250309T090000
END:DAYLIGHT
BEGIN:STANDARD
TZOFFSETFROM:-0600
TZOFFSETTO:-0700
TZNAME:MST
DTSTART:20251102T080000
END:STANDARD
BEGIN:DAYLIGHT
TZOFFSETFROM:-0700
TZOFFSETTO:-0600
TZNAME:MDT
DTSTART:20260308T090000
END:DAYLIGHT
BEGIN:STANDARD
TZOFFSETFROM:-0600
TZOFFSETTO:-0700
TZNAME:MST
DTSTART:20261101T080000
END:STANDARD
BEGIN:DAYLIGHT
TZOFFSETFROM:-0700
TZOFFSETTO:-0600
TZNAME:MDT
DTSTART:20270314T090000
END:DAYLIGHT
BEGIN:STANDARD
TZOFFSETFROM:-0600
TZOFFSETTO:-0700
TZNAME:MST
DTSTART:20271107T080000
END:STANDARD
END:VTIMEZONE
BEGIN:VEVENT
DTSTART;VALUE=DATE:20260419
DTEND;VALUE=DATE:20260426
DTSTAMP:20260421T021953
CREATED:20260116T151620Z
LAST-MODIFIED:20260327T174049Z
UID:25276-1776556800-1777161599@redcliff.ca
SUMMARY:Pitch In Week
DESCRIPTION:[vc_row][vc_column][vc_column_text] \n\nPitch-In Week returns April 19 – 25th! \n\n\n\nDuring Pitch-In Week\, Redcliff residents with proof of residency can dispose of certain items at the Redcliff Cypress Regional Landfill at no cost such as:\n\n\n– Leaf and yard waste\n– Household waste\n– Clean metals such as BBQ’s and propane tanks.\n– Batteries\n– Tires without a rim\n– Used oil\n– Electronics\n\n\n\nDuring Pitch-In Week\, we invite the community to work together to help clean up our Town! Residents can stop by Town Hall and pick up gloves\, safety vests\, and garbage bags to help Pitch-In on cleaning up our Town! \n\n\n\n[/vc_column_text][/vc_column][/vc_row]
URL:https://redcliff.ca/event/pitch-in-week/
CATEGORIES:Feature Event
END:VEVENT
BEGIN:VEVENT
DTSTART;VALUE=DATE:20260419
DTEND;VALUE=DATE:20260426
DTSTAMP:20260421T021953
CREATED:20260417T212259Z
LAST-MODIFIED:20260417T212317Z
UID:25848-1776556800-1777161599@redcliff.ca
SUMMARY:National Volunteer Week 2026
DESCRIPTION:[vc_row][vc_column][vc_column_text] \n\nNational Volunteer Week 2026 begins today\, Sunday April 19th\, until Saturday April 25th! \n\n\n\nDuring this week\, we would like to say THANK YOU to our valued community volunteers\, as well as highlight some incredible organizations and people who have made a real difference in our community!\n\n\n\nStay tuned this week to see how these groups and individuals have impacted our community! \n\n\n\n[/vc_column_text][/vc_column][/vc_row]
URL:https://redcliff.ca/event/national-volunteer-week-2026/
CATEGORIES:Feature Event
END:VEVENT
BEGIN:VEVENT
DTSTART;TZID=America/Edmonton:20260421T180000
DTEND;TZID=America/Edmonton:20260421T185000
DTSTAMP:20260421T021953
CREATED:20260402T192722Z
LAST-MODIFIED:20260402T192745Z
UID:25759-1776794400-1776797400@redcliff.ca
SUMMARY:Zumba With Jessica at Margaret Wooding School
DESCRIPTION:[vc_row][vc_column][vc_column_text] \n\nZumba with Jessica is coming back!\n\n\n\nJoin Jessica for another interval style\, calorie burning dance fitness party at Margaret Wooding Elementary School starting Tuesday April 14th from 6:00 – 6:50pm every Tuesday until May 26th! \n\n\n\nInterested in taking a trial class before committing? call Jessica at 403-594-2744 to see if Zumba is right for you!\n\n\n\nRegistration cost is only $80 for7 classes\, with all registrants entered to win a basket filled with amazing prizes!\n\n\n\nTo register today\, please visit https://redcliff.recdesk.com/Community/Home \n\n\n\n[/vc_column_text][/vc_column][/vc_row]
URL:https://redcliff.ca/event/zumba-with-jessica-at-margaret-wooding-school-2/
CATEGORIES:Feature Event
END:VEVENT
BEGIN:VEVENT
DTSTART;TZID=America/Edmonton:20260422T180000
DTEND;TZID=America/Edmonton:20260422T184500
DTSTAMP:20260421T021953
CREATED:20260206T174233Z
LAST-MODIFIED:20260206T174233Z
UID:25439-1776880800-1776883500@redcliff.ca
SUMMARY:Bootcamp and Step Fitness Classes With Marla Howard at the Redcliff Seniors Centre
DESCRIPTION:Bootcamp and Step Fitness with Marla Howard is coming back this spring! \n\n\n \n\n\nJoin Marla once again Mondays and Wednesdays beginning Monday\, March 2nd at the Redcliff Seniors Center from 6:00 – 6:45pm! \n\n\n \n\n\nRegistration is only $150 for 15 sessions! Must be 16+ to register. \n\n\n\nTo register today\, please visit redcliff.recdesk.com\n\n\n \n\n\nFor more information\, please email cps@redcliff.ca 
URL:https://redcliff.ca/event/bootcamp-and-step-fitness-classes-with-marla-howard-at-the-redcliff-seniors-centre-13/
LOCATION:Redcliff Senior Centre\, 26 Main Street S\, Redcliff\, Alberta\, T0J 2P0\, Canada
CATEGORIES:Feature Event
END:VEVENT
BEGIN:VEVENT
DTSTART;TZID=America/Edmonton:20260423T180000
DTEND;TZID=America/Edmonton:20260423T200000
DTSTAMP:20260421T021953
CREATED:20260116T151805Z
LAST-MODIFIED:20260211T162508Z
UID:25278-1776967200-1776974400@redcliff.ca
SUMMARY:Volunteer Appreciation Night
DESCRIPTION:Volunteer Appreciation Night is Thursday\, April 23rd\, 2026.
URL:https://redcliff.ca/event/volunteer-appreciation-night/
CATEGORIES:Feature Event
END:VEVENT
BEGIN:VEVENT
DTSTART;TZID=America/Edmonton:20260428T180000
DTEND;TZID=America/Edmonton:20260428T185000
DTSTAMP:20260421T021953
CREATED:20260402T192944Z
LAST-MODIFIED:20260402T193009Z
UID:25762-1777399200-1777402200@redcliff.ca
SUMMARY:Zumba With Jessica at Margaret Wooding School
DESCRIPTION:[vc_row][vc_column][vc_column_text] \n\nZumba with Jessica is coming back!\n\n\n\nJoin Jessica for another interval style\, calorie burning dance fitness party at Margaret Wooding Elementary School starting Tuesday April 14th from 6:00 – 6:50pm every Tuesday until May 26th! \n\n\n\nInterested in taking a trial class before committing? call Jessica at 403-594-2744 to see if Zumba is right for you!\n\n\n\nRegistration cost is only $80 for7 classes\, with all registrants entered to win a basket filled with amazing prizes!\n\n\n\nTo register today\, please visit https://redcliff.recdesk.com/Community/Home \n\n\n\n[/vc_column_text][/vc_column][/vc_row]
URL:https://redcliff.ca/event/zumba-with-jessica-at-margaret-wooding-school-3/
LOCATION:Margaret Wooding Elementary School\, 401 8 Ave SE\, Redcliff\, Alberta\, T0J 2P0\, Canada
CATEGORIES:Feature Event
END:VEVENT
END:VCALENDAR